BEGIN:VCALENDAR
VERSION:2.0
PRODID:-//Tu Kairós | Herramientas para desplegar todo tu potencial y abrazar tu transformación. - ECPv6.15.20//NONSGML v1.0//EN
CALSCALE:GREGORIAN
METHOD:PUBLISH
X-ORIGINAL-URL:https://tukairos.com
X-WR-CALDESC:Eventos para Tu Kairós | Herramientas para desplegar todo tu potencial y abrazar tu transformación.
REFRESH-INTERVAL;VALUE=DURATION:PT1H
X-Robots-Tag:noindex
X-PUBLISHED-TTL:PT1H
BEGIN:VTIMEZONE
TZID:Europe/Madrid
BEGIN:DAYLIGHT
TZOFFSETFROM:+0100
TZOFFSETTO:+0200
TZNAME:CEST
DTSTART:20240331T010000
END:DAYLIGHT
BEGIN:STANDARD
TZOFFSETFROM:+0200
TZOFFSETTO:+0100
TZNAME:CET
DTSTART:20241027T010000
END:STANDARD
BEGIN:DAYLIGHT
TZOFFSETFROM:+0100
TZOFFSETTO:+0200
TZNAME:CEST
DTSTART:20250330T010000
END:DAYLIGHT
BEGIN:STANDARD
TZOFFSETFROM:+0200
TZOFFSETTO:+0100
TZNAME:CET
DTSTART:20251026T010000
END:STANDARD
BEGIN:DAYLIGHT
TZOFFSETFROM:+0100
TZOFFSETTO:+0200
TZNAME:CEST
DTSTART:20260329T010000
END:DAYLIGHT
BEGIN:STANDARD
TZOFFSETFROM:+0200
TZOFFSETTO:+0100
TZNAME:CET
DTSTART:20261025T010000
END:STANDARD
END:VTIMEZONE
BEGIN:VEVENT
DTSTART;TZID=Europe/Madrid:20251018T140000
DTEND;TZID=Europe/Madrid:20251019T200000
DTSTAMP:20260425T024714
CREATED:20251017T201734Z
LAST-MODIFIED:20251017T201747Z
UID:19845-1760796000-1760904000@tukairos.com
SUMMARY:Seminario Online: Activación Interna de la Glándula Pineal
DESCRIPTION:Los días 18 y 19 de octubre\, únete a nuestro seminario ONLINE exclusivo y aprende a activar tu glándula pineal\, la llave maestra para la transformación personal y espiritual. \n🔹 Expande tu conciencia\n🔹 Conéctate con tu verdadero poder\n🔹 Desbloquea nuevas posibilidades en tu vida \nDe la mano de Concha Suárez\, experta en activación pineal\, vivirás una experiencia profunda que te permitirá reprogramar tu energía\, elevar tu vibración y acceder a un estado de claridad y plenitud.\n🌟 ¡Reserva tu lugar ahora y despierta el poder que hay en ti! 🌟 \n\n\n\nReserva tu lugar ahora  escríbenos al: https://api.whatsapp.com/send?phone=34686742596
URL:https://tukairos.com/event/seminario-online-activacion-interna-de-la-glandula-pineal-copy/
LOCATION:Online\, Spain
ATTACH;FMTTYPE=image/jpeg:https://tukairos.com/wp-content/uploads/2025/10/Kairos-Octubre-2025-100.jpg
END:VEVENT
BEGIN:VEVENT
DTSTART;TZID=Europe/Madrid:20251025T160000
DTEND;TZID=Europe/Madrid:20251025T193000
DTSTAMP:20260425T024714
CREATED:20251017T202706Z
LAST-MODIFIED:20251017T202803Z
UID:19849-1761408000-1761420600@tukairos.com
SUMMARY:Taller online sobre la muerte y el alma
DESCRIPTION:🌑✨ La muerte no es el final… es el gran recordatorio de la vida. \nEn este taller online\, descubrirás cómo transformar el miedo a la muerte en una oportunidad para renacer en conciencia\, soltar lo que ya no vibra contigo y reconciliarte con el ciclo natural del alma. \n👩‍🏫 Impartido por Concha Suárez\, instructora certificada del Método Cyclopea. \n💫 Porque comprender la muerte…es aprender a vivir con más verdad\, amor y presencia. \n🌟 ¡Reserva tu lugar ahora y despierta el poder que hay en ti! 🌟 \n\n\n\nReserva tu lugar ahora  escríbenos al: https://api.whatsapp.com/send?phone=34686742596
URL:https://tukairos.com/event/taller-la-muerte-aliada-del-alma-metodo-cyclopea/
LOCATION:Online\, Spain
ATTACH;FMTTYPE=image/png:https://tukairos.com/wp-content/uploads/2025/10/1.png
END:VEVENT
END:VCALENDAR