BEGIN:VCALENDAR
VERSION:2.0
PRODID:-//Tu Kairós | Herramientas para desplegar todo tu potencial y abrazar tu transformación. - ECPv6.15.20//NONSGML v1.0//EN
CALSCALE:GREGORIAN
METHOD:PUBLISH
X-ORIGINAL-URL:https://tukairos.com
X-WR-CALDESC:Eventos para Tu Kairós | Herramientas para desplegar todo tu potencial y abrazar tu transformación.
REFRESH-INTERVAL;VALUE=DURATION:PT1H
X-Robots-Tag:noindex
X-PUBLISHED-TTL:PT1H
BEGIN:VTIMEZONE
TZID:Europe/Madrid
BEGIN:DAYLIGHT
TZOFFSETFROM:+0100
TZOFFSETTO:+0200
TZNAME:CEST
DTSTART:20250330T010000
END:DAYLIGHT
BEGIN:STANDARD
TZOFFSETFROM:+0200
TZOFFSETTO:+0100
TZNAME:CET
DTSTART:20251026T010000
END:STANDARD
BEGIN:DAYLIGHT
TZOFFSETFROM:+0100
TZOFFSETTO:+0200
TZNAME:CEST
DTSTART:20260329T010000
END:DAYLIGHT
BEGIN:STANDARD
TZOFFSETFROM:+0200
TZOFFSETTO:+0100
TZNAME:CET
DTSTART:20261025T010000
END:STANDARD
BEGIN:DAYLIGHT
TZOFFSETFROM:+0100
TZOFFSETTO:+0200
TZNAME:CEST
DTSTART:20270328T010000
END:DAYLIGHT
BEGIN:STANDARD
TZOFFSETFROM:+0200
TZOFFSETTO:+0100
TZNAME:CET
DTSTART:20271031T010000
END:STANDARD
END:VTIMEZONE
BEGIN:VEVENT
DTSTART;TZID=Europe/Madrid:20260227T193000
DTEND;TZID=Europe/Madrid:20260227T210000
DTSTAMP:20260425T122324
CREATED:20260206T141428Z
LAST-MODIFIED:20260302T152910Z
UID:19876-1772220600-1772226000@tukairos.com
SUMMARY:Charla Presencial: Activación Interna de la Glándula Pineal
DESCRIPTION:El 27 de febrero\, te invitamos a una Charla Presencial sobre la Glándula Pineal\, un espacio de encuentro y comprensión para quienes desean profundizar en su conciencia y bienestar integral. \nA través de una mirada clara y consciente\, exploraremos cómo la glándula pineal influye en nuestro equilibrio físico\, emocional y espiritual\, y cómo activarla desde un enfoque práctico y humano. \n🔹 Mejora tu claridad mental y descanso🔹 Reduce el estrés y armoniza tus emociones🔹 Conecta con tu intuición y coherencia interior \nLa charla será impartida por Concha Suárez\, instructora certificada\, con amplia experiencia en procesos de evolución consciente. \n📅 Fecha: 27 de febrero⏰ Hora: 19:30 h📍 Lugar: C/ Blas de Lezo\, 8 – Málaga🧘‍♀️ Modalidad: Presencial \n✨ Un espacio para reconectar contigo\, comprenderte mejor y vivir desde tu esencia. \n📲 Reserva tu lugar ahora👉 https://api.whatsapp.com/send?phone=34686742596
URL:https://tukairos.com/event/charla-glandula-pineal-malaga/
LOCATION:Málaga\, C/Blas de Lezo\, 8\, Málaga\, Spain
ATTACH;FMTTYPE=image/png:https://tukairos.com/wp-content/uploads/2026/02/Charla-Anaida.png
END:VEVENT
BEGIN:VEVENT
DTSTART;TZID=Europe/Madrid:20260314T143000
DTEND;TZID=Europe/Madrid:20260315T160000
DTSTAMP:20260425T122324
CREATED:20260301T114017Z
LAST-MODIFIED:20260302T182350Z
UID:19881-1773498600-1773590400@tukairos.com
SUMMARY:Seminario Activación Glándula Pineal_ Málaga
DESCRIPTION:Los días 14 y 15 de marzo únete a nuestro PRESENCIAL en MÁLAGA y vive la Activación de la Glándula Pineal. \n🔹 Toma tus decisiones con claridad\n🔹 Actúa con seguridad\n🔹 Transforma creencias obsoletas \nDe la mano de Concha Suárez\, experta en Activación Pineal\, vivirás una experiencia profunda que te permitirá acceder a un estado pleno\n🌟 ¡Reserva tu lugar ahora y despierta el poder que hay en ti! 🌟 \nReserva tu lugar ahora escríbenos al: https://api.whatsapp.com/send?phone=34686742596
URL:https://tukairos.com/event/seminario-activacion-glandula-pineal/
LOCATION:Málaga\, C/Blas de Lezo\, 8\, Málaga\, Spain
ATTACH;FMTTYPE=image/webp:https://tukairos.com/wp-content/uploads/2026/02/Malaga-14-y-15-marzo.webp
END:VEVENT
BEGIN:VEVENT
DTSTART;TZID=Europe/Madrid:20260328T150000
DTEND;TZID=Europe/Madrid:20260329T150000
DTSTAMP:20260425T122324
CREATED:20260316T163444Z
LAST-MODIFIED:20260316T163444Z
UID:19902-1774710000-1774796400@tukairos.com
SUMMARY:Taller On line Activación Glándula Pineal
DESCRIPTION:😳 “Cansado\, confundido y sin rumbo… tu mente merece despertar” \nEl taller on line de Activación de la Glándula Pineal los días 28 y 29 de marzo\, es una experiencia que despierta tu intuición y fortalece tu confianza. \nSi sufres de estrés constante y confusión mental\, la activación hará que: \n🔹 Tomes decisiones sin miedo\n🔹 Recargues tu energía\n🔹 Calmes tu mente del ruido que te distrae \nNo es teoría. Es experiencia que transforma. \n🌟 ¡Reserva tu lugar ahora y activa el poder que hay en ti! 🌟 \nReserva tu lugar ahora escríbenos al: https://api.whatsapp.com/send?phone=34686742596 \n  \n  \n 
URL:https://tukairos.com/event/taller-on-line-activacion-glandula-pineal/
LOCATION:Online\, Spain
ATTACH;FMTTYPE=image/webp:https://tukairos.com/wp-content/uploads/2026/02/28-y-29-on-line.webp
END:VEVENT
BEGIN:VEVENT
DTSTART;TZID=Europe/Madrid:20260425T093000
DTEND;TZID=Europe/Madrid:20260426T163000
DTSTAMP:20260425T122324
CREATED:20260412T171537Z
LAST-MODIFIED:20260412T170757Z
UID:19912-1777109400-1777221000@tukairos.com
SUMMARY:Activación Glándula Pineal - Taller Online
DESCRIPTION:Si estás harto de dudar\, de darle vueltas a tu mente y de sentir que no avanzas\, aquí es donde todo cambia: \nEl taller de Activación de la Glándula Pineal\, en modalidad Online\, los días 25 y 26 de abril \nNo es para curiosos… es para quienes están listos para dar un salto. \n🔹 Ves con claridad tu camino y dejas de vivir atrapado en la confusión🔹 Recuperas una energía imparable y rompes con el agotamiento mental que te frena🔹 Tomas el control de tu mente y apagas el ruido interno que te desgasta \nEsto no es información. Es un antes y un después. \nLas plazas son limitadas… y quien entra\, no vuelve a ser el mismo. \n⚡ Reserva ahora. Porque si lo estás sintiendo\, es porque lo necesitas ⚡ \nReserva tu lugar ahora escríbenos al: https://api.whatsapp.com/send?phone=34686742596
URL:https://tukairos.com/event/activacion-glandula-pineal-online/
LOCATION:Online\, Spain
ATTACH;FMTTYPE=image/webp:https://tukairos.com/wp-content/uploads/2026/04/25-y-26-Abril.webp
END:VEVENT
BEGIN:VEVENT
DTSTART;TZID=Europe/Madrid:20260509T100000
DTEND;TZID=Europe/Madrid:20260510T170000
DTSTAMP:20260425T122324
CREATED:20260425T080656Z
LAST-MODIFIED:20260425T100509Z
UID:19931-1778320800-1778432400@tukairos.com
SUMMARY:Taller Activación Glándula Pineal
DESCRIPTION:Si por dentro sientes ruido\, cansancio mental o la sensación de estar funcionando en automático este taller es un antes y un después en tu vida. \nAquí no vienes a “hacer más”.\nVienes a recuperar claridad\, calma y dirección. \nLo que te llevas es:\n• Silenciar la sobrecarga mental que te desgasta   • Salir del piloto automático que te desconecta   • Ordenar lo que sientes para poder tomar mejores decisiones   • Volver a actuar desde un lugar más coherente contigo \nEs para ti si no quieres seguir empujando la vida… sino vivirla con presencia. \n📍 Plazas limitadas🌟 ¡Reserva tu lugar ahora y despierta el poder que hay en ti! 🌟 \nReserva tu lugar ahora escríbenos al: https://api.whatsapp.com/send?phone=34686742596
URL:https://tukairos.com/event/taller-activacion-glandula-pineal/
ATTACH;FMTTYPE=image/webp:https://tukairos.com/wp-content/uploads/2026/04/09-y-10-Online.webp
END:VEVENT
END:VCALENDAR