BEGIN:VCALENDAR
VERSION:2.0
PRODID:-//Tu Kairós | Herramientas para desplegar todo tu potencial y abrazar tu transformación. - ECPv6.15.20//NONSGML v1.0//EN
CALSCALE:GREGORIAN
METHOD:PUBLISH
X-ORIGINAL-URL:https://tukairos.com
X-WR-CALDESC:Eventos para Tu Kairós | Herramientas para desplegar todo tu potencial y abrazar tu transformación.
REFRESH-INTERVAL;VALUE=DURATION:PT1H
X-Robots-Tag:noindex
X-PUBLISHED-TTL:PT1H
BEGIN:VTIMEZONE
TZID:Europe/Madrid
BEGIN:DAYLIGHT
TZOFFSETFROM:+0100
TZOFFSETTO:+0200
TZNAME:CEST
DTSTART:20230326T010000
END:DAYLIGHT
BEGIN:STANDARD
TZOFFSETFROM:+0200
TZOFFSETTO:+0100
TZNAME:CET
DTSTART:20231029T010000
END:STANDARD
BEGIN:DAYLIGHT
TZOFFSETFROM:+0100
TZOFFSETTO:+0200
TZNAME:CEST
DTSTART:20240331T010000
END:DAYLIGHT
BEGIN:STANDARD
TZOFFSETFROM:+0200
TZOFFSETTO:+0100
TZNAME:CET
DTSTART:20241027T010000
END:STANDARD
BEGIN:DAYLIGHT
TZOFFSETFROM:+0100
TZOFFSETTO:+0200
TZNAME:CEST
DTSTART:20250330T010000
END:DAYLIGHT
BEGIN:STANDARD
TZOFFSETFROM:+0200
TZOFFSETTO:+0100
TZNAME:CET
DTSTART:20251026T010000
END:STANDARD
END:VTIMEZONE
BEGIN:VEVENT
DTSTART;TZID=Europe/Madrid:20241214T100000
DTEND;TZID=Europe/Madrid:20241215T180000
DTSTAMP:20260425T234912
CREATED:20241119T012357Z
LAST-MODIFIED:20241202T144848Z
UID:19608-1734170400-1734285600@tukairos.com
SUMMARY:Seminario Activación de la Glándula Pineal - Sevilla
DESCRIPTION:Descubre el el poder oculto de la glándula pineal el 14 y 15 de diciembre en Sevilla. \n\n\nEste seminario te invita a despertar tu conciencia\, a entender cómo crear tu vida de manera exitosa para que cada día de tu vida sea realmente a especial y mágico\n\n\n \n\n\nEs el comienzo de una nueva forma de percibir\, sentir y vivir. \n\n\n \n\n\nReserva tu lugar ahora  escríbenos al: https://api.whatsapp.com/send?phone=34686742596
URL:https://tukairos.com/event/seminario-activacion-de-la-glandula-pineal-3/
ATTACH;FMTTYPE=image/png:https://tukairos.com/wp-content/uploads/2024/11/14-15-Diciembre.png
END:VEVENT
END:VCALENDAR