BEGIN:VCALENDAR
VERSION:2.0
PRODID:-//Tu Kairós | Herramientas para desplegar todo tu potencial y abrazar tu transformación. - ECPv6.15.20//NONSGML v1.0//EN
CALSCALE:GREGORIAN
METHOD:PUBLISH
X-ORIGINAL-URL:https://tukairos.com
X-WR-CALDESC:Eventos para Tu Kairós | Herramientas para desplegar todo tu potencial y abrazar tu transformación.
REFRESH-INTERVAL;VALUE=DURATION:PT1H
X-Robots-Tag:noindex
X-PUBLISHED-TTL:PT1H
BEGIN:VTIMEZONE
TZID:Europe/Madrid
BEGIN:DAYLIGHT
TZOFFSETFROM:+0100
TZOFFSETTO:+0200
TZNAME:CEST
DTSTART:20240331T010000
END:DAYLIGHT
BEGIN:STANDARD
TZOFFSETFROM:+0200
TZOFFSETTO:+0100
TZNAME:CET
DTSTART:20241027T010000
END:STANDARD
BEGIN:DAYLIGHT
TZOFFSETFROM:+0100
TZOFFSETTO:+0200
TZNAME:CEST
DTSTART:20250330T010000
END:DAYLIGHT
BEGIN:STANDARD
TZOFFSETFROM:+0200
TZOFFSETTO:+0100
TZNAME:CET
DTSTART:20251026T010000
END:STANDARD
BEGIN:DAYLIGHT
TZOFFSETFROM:+0100
TZOFFSETTO:+0200
TZNAME:CEST
DTSTART:20260329T010000
END:DAYLIGHT
BEGIN:STANDARD
TZOFFSETFROM:+0200
TZOFFSETTO:+0100
TZNAME:CET
DTSTART:20261025T010000
END:STANDARD
END:VTIMEZONE
BEGIN:VEVENT
DTSTART;TZID=Europe/Madrid:20250621T160000
DTEND;TZID=Europe/Madrid:20250621T190000
DTSTAMP:20260425T134916
CREATED:20250708T192049Z
LAST-MODIFIED:20250708T192049Z
UID:19828-1750521600-1750532400@tukairos.com
SUMMARY:Taller Online: La muerte una aliada del alma.
DESCRIPTION:✨ ¿Y si la muerte no fuera el final… sino un portal hacia el despertar? ✨ \nNos enseñaron a temerla\, pero hoy la miramos de frente.\nEn este encuentro transformador descubrirás que la muerte no viene a quitarte nada… viene a recordarte quién eres. \n🕊️ Una experiencia espiritual para soltar el miedo\, reconectar con tu esencia y abrazar el misterio desde el amor.\n📅 21 de junio\n🕓 16:00 – 19:00 h (Madrid)\n💻 Vía Zoom \n🔗 Plazas limitadas. Haz clic en el enlace de la bio y reserva tu lugar ahora.
URL:https://tukairos.com/event/taller-online-muerte-aliada/
LOCATION:Online\, Spain
ATTACH;FMTTYPE=image/png:https://tukairos.com/wp-content/uploads/2025/07/ChatGPT-Image-8-jul-2025-02_18_54-p.m.png
END:VEVENT
END:VCALENDAR