BEGIN:VCALENDAR
VERSION:2.0
PRODID:-//Tu Kairós | Herramientas para desplegar todo tu potencial y abrazar tu transformación. - ECPv6.15.20//NONSGML v1.0//EN
CALSCALE:GREGORIAN
METHOD:PUBLISH
X-ORIGINAL-URL:https://tukairos.com
X-WR-CALDESC:Eventos para Tu Kairós | Herramientas para desplegar todo tu potencial y abrazar tu transformación.
REFRESH-INTERVAL;VALUE=DURATION:PT1H
X-Robots-Tag:noindex
X-PUBLISHED-TTL:PT1H
BEGIN:VTIMEZONE
TZID:Europe/Madrid
BEGIN:DAYLIGHT
TZOFFSETFROM:+0100
TZOFFSETTO:+0200
TZNAME:CEST
DTSTART:20230326T010000
END:DAYLIGHT
BEGIN:STANDARD
TZOFFSETFROM:+0200
TZOFFSETTO:+0100
TZNAME:CET
DTSTART:20231029T010000
END:STANDARD
BEGIN:DAYLIGHT
TZOFFSETFROM:+0100
TZOFFSETTO:+0200
TZNAME:CEST
DTSTART:20240331T010000
END:DAYLIGHT
BEGIN:STANDARD
TZOFFSETFROM:+0200
TZOFFSETTO:+0100
TZNAME:CET
DTSTART:20241027T010000
END:STANDARD
BEGIN:DAYLIGHT
TZOFFSETFROM:+0100
TZOFFSETTO:+0200
TZNAME:CEST
DTSTART:20250330T010000
END:DAYLIGHT
BEGIN:STANDARD
TZOFFSETFROM:+0200
TZOFFSETTO:+0100
TZNAME:CET
DTSTART:20251026T010000
END:STANDARD
END:VTIMEZONE
BEGIN:VEVENT
DTSTART;TZID=Europe/Madrid:20241116T080000
DTEND;TZID=Europe/Madrid:20241117T170000
DTSTAMP:20260425T215546
CREATED:20241103T121249Z
LAST-MODIFIED:20241103T121249Z
UID:19592-1731744000-1731862800@tukairos.com
SUMMARY:Seminario Activación de la Glándula Pineal
DESCRIPTION:Únete a nuestro Seminario de Activación Interna de la Glándula Pineal los próximos 16 y 17 de noviembre\, donde explorarás herramientas para transformar tu vida desde adentro. Con el Método Cyclopea\, aprenderás a activar tu glándula pineal y desbloquear tu potencial creativo. \n¡Es tu momento de despertar tu poder interno!
URL:https://tukairos.com/event/seminario-activacion-de-la-glandula-pineal/
ATTACH;FMTTYPE=image/png:https://tukairos.com/wp-content/uploads/2024/11/16-17-Noviembre.png
END:VEVENT
BEGIN:VEVENT
DTSTART;VALUE=DATE:20241121
DTEND;VALUE=DATE:20241122
DTSTAMP:20260425T215546
CREATED:20241119T011751Z
LAST-MODIFIED:20241119T113842Z
UID:19604-1732147200-1732233599@tukairos.com
SUMMARY:Seminario Activación de la Glándula Pineal - Hara
DESCRIPTION:Únete a nuestro Seminario de Activación Interna de la Glándula Pineal el próximo 21 de noviembre\, descubre cómo este concepto señala tu momento idóneo donde\, a través de las herramientas que pongo en tus manos\, recibirás las claves para desplegar todo tu potencial y abrazar tu transformación. \n¡Es tu momento de despertar tu poder interno!
URL:https://tukairos.com/event/seminario-activacion-de-la-glandula-pineal-hara/
LOCATION:Centro Hara\, Málaga\, Spain
ATTACH;FMTTYPE=image/png:https://tukairos.com/wp-content/uploads/2024/11/21-NOVIEMBRE.png
END:VEVENT
BEGIN:VEVENT
DTSTART;TZID=Europe/Madrid:20241123T080000
DTEND;TZID=Europe/Madrid:20241124T170000
DTSTAMP:20260425T215546
CREATED:20241103T121527Z
LAST-MODIFIED:20241119T114132Z
UID:19596-1732348800-1732467600@tukairos.com
SUMMARY:Seminario Activación de la Glándula Pineal
DESCRIPTION:Únete a nuestro Seminario de Activación Interna de la Glándula Pineal los próximos 23 y 24 de noviembre\, descubre cómo este concepto señala tu momento idóneo donde\, a través de las herramientas que pongo en tus manos\, recibirás las claves para desplegar todo tu potencial y abrazar tu transformación. \n¡Es tu momento de despertar tu poder interno!
URL:https://tukairos.com/event/seminario-activacion-de-la-glandula-pineal-online-3/
ATTACH;FMTTYPE=image/png:https://tukairos.com/wp-content/uploads/2024/11/23-24-Noviembre.png
END:VEVENT
BEGIN:VEVENT
DTSTART;TZID=Europe/Madrid:20241130T080000
DTEND;TZID=Europe/Madrid:20241201T170000
DTSTAMP:20260425T215546
CREATED:20241119T012836Z
LAST-MODIFIED:20241119T013134Z
UID:19612-1732953600-1733072400@tukairos.com
SUMMARY:Seminario Activación de la Glándula Pineal - Málaga
DESCRIPTION:Únete a nuestro Seminario de Activación Interna de la Glándula Pineal los próximos 30 de noviembre y 01 de diciembre en Málaga\, descubre cómo este concepto señala tu momento idóneo donde\, a través de las herramientas que pongo en tus manos\, recibirás las claves para desplegar todo tu potencial y abrazar tu transformación. \n¡Es tu momento de despertar tu poder interno!
URL:https://tukairos.com/event/seminario-activacion-de-la-glandula-pineal-malaga/
ATTACH;FMTTYPE=image/png:https://tukairos.com/wp-content/uploads/2024/11/30-01-Diciembre.png
END:VEVENT
END:VCALENDAR