BEGIN:VCALENDAR
VERSION:2.0
PRODID:-//Tu Kairós | Herramientas para desplegar todo tu potencial y abrazar tu transformación. - ECPv6.15.20//NONSGML v1.0//EN
CALSCALE:GREGORIAN
METHOD:PUBLISH
X-ORIGINAL-URL:https://tukairos.com
X-WR-CALDESC:Eventos para Tu Kairós | Herramientas para desplegar todo tu potencial y abrazar tu transformación.
REFRESH-INTERVAL;VALUE=DURATION:PT1H
X-Robots-Tag:noindex
X-PUBLISHED-TTL:PT1H
BEGIN:VTIMEZONE
TZID:Europe/Madrid
BEGIN:DAYLIGHT
TZOFFSETFROM:+0100
TZOFFSETTO:+0200
TZNAME:CEST
DTSTART:20250330T010000
END:DAYLIGHT
BEGIN:STANDARD
TZOFFSETFROM:+0200
TZOFFSETTO:+0100
TZNAME:CET
DTSTART:20251026T010000
END:STANDARD
BEGIN:DAYLIGHT
TZOFFSETFROM:+0100
TZOFFSETTO:+0200
TZNAME:CEST
DTSTART:20260329T010000
END:DAYLIGHT
BEGIN:STANDARD
TZOFFSETFROM:+0200
TZOFFSETTO:+0100
TZNAME:CET
DTSTART:20261025T010000
END:STANDARD
BEGIN:DAYLIGHT
TZOFFSETFROM:+0100
TZOFFSETTO:+0200
TZNAME:CEST
DTSTART:20270328T010000
END:DAYLIGHT
BEGIN:STANDARD
TZOFFSETFROM:+0200
TZOFFSETTO:+0100
TZNAME:CET
DTSTART:20271031T010000
END:STANDARD
END:VTIMEZONE
BEGIN:VEVENT
DTSTART;TZID=Europe/Madrid:20260227T193000
DTEND;TZID=Europe/Madrid:20260227T210000
DTSTAMP:20260424T235612
CREATED:20260206T141428Z
LAST-MODIFIED:20260302T152910Z
UID:19876-1772220600-1772226000@tukairos.com
SUMMARY:Charla Presencial: Activación Interna de la Glándula Pineal
DESCRIPTION:El 27 de febrero\, te invitamos a una Charla Presencial sobre la Glándula Pineal\, un espacio de encuentro y comprensión para quienes desean profundizar en su conciencia y bienestar integral. \nA través de una mirada clara y consciente\, exploraremos cómo la glándula pineal influye en nuestro equilibrio físico\, emocional y espiritual\, y cómo activarla desde un enfoque práctico y humano. \n🔹 Mejora tu claridad mental y descanso🔹 Reduce el estrés y armoniza tus emociones🔹 Conecta con tu intuición y coherencia interior \nLa charla será impartida por Concha Suárez\, instructora certificada\, con amplia experiencia en procesos de evolución consciente. \n📅 Fecha: 27 de febrero⏰ Hora: 19:30 h📍 Lugar: C/ Blas de Lezo\, 8 – Málaga🧘‍♀️ Modalidad: Presencial \n✨ Un espacio para reconectar contigo\, comprenderte mejor y vivir desde tu esencia. \n📲 Reserva tu lugar ahora👉 https://api.whatsapp.com/send?phone=34686742596
URL:https://tukairos.com/event/charla-glandula-pineal-malaga/
LOCATION:Málaga\, C/Blas de Lezo\, 8\, Málaga\, Spain
ATTACH;FMTTYPE=image/png:https://tukairos.com/wp-content/uploads/2026/02/Charla-Anaida.png
END:VEVENT
END:VCALENDAR