BEGIN:VCALENDAR
VERSION:2.0
PRODID:-//Tu Kairós | Herramientas para desplegar todo tu potencial y abrazar tu transformación. - ECPv6.15.20//NONSGML v1.0//EN
CALSCALE:GREGORIAN
METHOD:PUBLISH
X-WR-CALNAME:Tu Kairós | Herramientas para desplegar todo tu potencial y abrazar tu transformación.
X-ORIGINAL-URL:https://tukairos.com
X-WR-CALDESC:Eventos para Tu Kairós | Herramientas para desplegar todo tu potencial y abrazar tu transformación.
REFRESH-INTERVAL;VALUE=DURATION:PT1H
X-Robots-Tag:noindex
X-PUBLISHED-TTL:PT1H
BEGIN:VTIMEZONE
TZID:Europe/Madrid
BEGIN:DAYLIGHT
TZOFFSETFROM:+0100
TZOFFSETTO:+0200
TZNAME:CEST
DTSTART:20240331T010000
END:DAYLIGHT
BEGIN:STANDARD
TZOFFSETFROM:+0200
TZOFFSETTO:+0100
TZNAME:CET
DTSTART:20241027T010000
END:STANDARD
BEGIN:DAYLIGHT
TZOFFSETFROM:+0100
TZOFFSETTO:+0200
TZNAME:CEST
DTSTART:20250330T010000
END:DAYLIGHT
BEGIN:STANDARD
TZOFFSETFROM:+0200
TZOFFSETTO:+0100
TZNAME:CET
DTSTART:20251026T010000
END:STANDARD
BEGIN:DAYLIGHT
TZOFFSETFROM:+0100
TZOFFSETTO:+0200
TZNAME:CEST
DTSTART:20260329T010000
END:DAYLIGHT
BEGIN:STANDARD
TZOFFSETFROM:+0200
TZOFFSETTO:+0100
TZNAME:CET
DTSTART:20261025T010000
END:STANDARD
END:VTIMEZONE
BEGIN:VEVENT
DTSTART;TZID=Europe/Madrid:20250215T160000
DTEND;TZID=Europe/Madrid:20250216T190000
DTSTAMP:20260425T193747
CREATED:20250207T160238Z
LAST-MODIFIED:20250207T160238Z
UID:19668-1739635200-1739732400@tukairos.com
SUMMARY:Taller Online: Felicidad 360°
DESCRIPTION:Descubre cómo crear una vida plena y equilibrada desde todas las dimensiones de tu ser. Este taller te brindará herramientas prácticas para cultivar la felicidad de manera integral\, alineando tu mente\, cuerpo y espíritu. \n¿Qué te llevarás? \nTécnicas para reducir el estrés y aumentar tu bienestar. \nEstrategias para encontrar equilibrio emocional. \nHerramientas para conectar con tu propósito y vivir con plenitud. \n✨ Regálate esta oportunidad de transformación. \n🔗 Reserva tu lugar hoy y vive la felicidad en 360°.
URL:https://tukairos.com/event/taller-online-felicidad-360/
LOCATION:Online\, Spain
ATTACH;FMTTYPE=image/jpeg:https://tukairos.com/wp-content/uploads/2025/02/Imagen-de-WhatsApp-2025-02-07-a-las-09.47.15_4de01e2e.jpg
END:VEVENT
END:VCALENDAR