BEGIN:VCALENDAR
VERSION:2.0
PRODID:-//Tu Kairós | Herramientas para desplegar todo tu potencial y abrazar tu transformación. - ECPv6.15.20//NONSGML v1.0//EN
CALSCALE:GREGORIAN
METHOD:PUBLISH
X-ORIGINAL-URL:https://tukairos.com
X-WR-CALDESC:Eventos para Tu Kairós | Herramientas para desplegar todo tu potencial y abrazar tu transformación.
REFRESH-INTERVAL;VALUE=DURATION:PT1H
X-Robots-Tag:noindex
X-PUBLISHED-TTL:PT1H
BEGIN:VTIMEZONE
TZID:Europe/Madrid
BEGIN:DAYLIGHT
TZOFFSETFROM:+0100
TZOFFSETTO:+0200
TZNAME:CEST
DTSTART:20240331T010000
END:DAYLIGHT
BEGIN:STANDARD
TZOFFSETFROM:+0200
TZOFFSETTO:+0100
TZNAME:CET
DTSTART:20241027T010000
END:STANDARD
BEGIN:DAYLIGHT
TZOFFSETFROM:+0100
TZOFFSETTO:+0200
TZNAME:CEST
DTSTART:20250330T010000
END:DAYLIGHT
BEGIN:STANDARD
TZOFFSETFROM:+0200
TZOFFSETTO:+0100
TZNAME:CET
DTSTART:20251026T010000
END:STANDARD
BEGIN:DAYLIGHT
TZOFFSETFROM:+0100
TZOFFSETTO:+0200
TZNAME:CEST
DTSTART:20260329T010000
END:DAYLIGHT
BEGIN:STANDARD
TZOFFSETFROM:+0200
TZOFFSETTO:+0100
TZNAME:CET
DTSTART:20261025T010000
END:STANDARD
END:VTIMEZONE
BEGIN:VEVENT
DTSTART;TZID=Europe/Madrid:20251114T190000
DTEND;TZID=Europe/Madrid:20251115T200000
DTSTAMP:20260425T054613
CREATED:20251017T203218Z
LAST-MODIFIED:20251017T203218Z
UID:19853-1763146800-1763236800@tukairos.com
SUMMARY:Seminario Online: Activación Interna de la Glándula Pineal
DESCRIPTION:El dia 14 de noviembre\, únete a nuestro seminario ONLINE exclusivo y aprende a activar tu glándula pineal\, la llave maestra para la transformación personal y espiritual. \n🔹 Expande tu conciencia\n🔹 Conéctate con tu verdadero poder\n🔹 Desbloquea nuevas posibilidades en tu vida \nDe la mano de Concha Suárez\, experta en activación pineal\, vivirás una experiencia profunda que te permitirá reprogramar tu energía\, elevar tu vibración y acceder a un estado de claridad y plenitud.\n🌟 ¡Reserva tu lugar ahora y despierta el poder que hay en ti! 🌟 \n\n\n\nReserva tu lugar ahora  escríbenos al: https://api.whatsapp.com/send?phone=34686742596
URL:https://tukairos.com/event/seminario-online-activacion-interna-de-la-glandula-pineal-8/
LOCATION:Online\, Spain
ATTACH;FMTTYPE=image/jpeg:https://tukairos.com/wp-content/uploads/2025/10/Kairos-Noviembre-2025-100.jpg
END:VEVENT
BEGIN:VEVENT
DTSTART;TZID=Europe/Madrid:20251129T190000
DTEND;TZID=Europe/Madrid:20251130T200000
DTSTAMP:20260425T054613
CREATED:20251121T162409Z
LAST-MODIFIED:20251121T162409Z
UID:19857-1764442800-1764532800@tukairos.com
SUMMARY:Seminario Presencial: Activación Interna de la Glándula Pineal
DESCRIPTION:El dia 29 de noviembre\, únete a nuestro seminario PRESENCIAL en BAZA exclusivo y aprende a activar tu glándula pineal\, la llave maestra para la transformación personal y espiritual. \n🔹 Expande tu conciencia\n🔹 Conéctate con tu verdadero poder\n🔹 Desbloquea nuevas posibilidades en tu vida \nDe la mano de Concha Suárez\, experta en activación pineal\, vivirás una experiencia profunda que te permitirá reprogramar tu energía\, elevar tu vibración y acceder a un estado de claridad y plenitud.\n🌟 ¡Reserva tu lugar ahora y despierta el poder que hay en ti! 🌟 \n\n\n\nReserva tu lugar ahora  escríbenos al: https://api.whatsapp.com/send?phone=34686742596
URL:https://tukairos.com/event/seminario-presencial-activacion-interna-de-la-glandula-pineal-copy-2/
LOCATION:BAZA\, Spain
ATTACH;FMTTYPE=image/jpeg:https://tukairos.com/wp-content/uploads/2025/11/Kairos-NOVIEMBRE-2025_2.jpg
END:VEVENT
END:VCALENDAR