BEGIN:VCALENDAR
VERSION:2.0
PRODID:-//Tu Kairós | Herramientas para desplegar todo tu potencial y abrazar tu transformación. - ECPv6.15.20//NONSGML v1.0//EN
CALSCALE:GREGORIAN
METHOD:PUBLISH
X-ORIGINAL-URL:https://tukairos.com
X-WR-CALDESC:Eventos para Tu Kairós | Herramientas para desplegar todo tu potencial y abrazar tu transformación.
REFRESH-INTERVAL;VALUE=DURATION:PT1H
X-Robots-Tag:noindex
X-PUBLISHED-TTL:PT1H
BEGIN:VTIMEZONE
TZID:Europe/Madrid
BEGIN:DAYLIGHT
TZOFFSETFROM:+0100
TZOFFSETTO:+0200
TZNAME:CEST
DTSTART:20240331T010000
END:DAYLIGHT
BEGIN:STANDARD
TZOFFSETFROM:+0200
TZOFFSETTO:+0100
TZNAME:CET
DTSTART:20241027T010000
END:STANDARD
BEGIN:DAYLIGHT
TZOFFSETFROM:+0100
TZOFFSETTO:+0200
TZNAME:CEST
DTSTART:20250330T010000
END:DAYLIGHT
BEGIN:STANDARD
TZOFFSETFROM:+0200
TZOFFSETTO:+0100
TZNAME:CET
DTSTART:20251026T010000
END:STANDARD
BEGIN:DAYLIGHT
TZOFFSETFROM:+0100
TZOFFSETTO:+0200
TZNAME:CEST
DTSTART:20260329T010000
END:DAYLIGHT
BEGIN:STANDARD
TZOFFSETFROM:+0200
TZOFFSETTO:+0100
TZNAME:CET
DTSTART:20261025T010000
END:STANDARD
END:VTIMEZONE
BEGIN:VEVENT
DTSTART;TZID=Europe/Madrid:20250208T160000
DTEND;TZID=Europe/Madrid:20250209T190000
DTSTAMP:20260425T193835
CREATED:20250129T141439Z
LAST-MODIFIED:20250129T141812Z
UID:19657-1739030400-1739127600@tukairos.com
SUMMARY:Taller Online: Liberando Mis Creencias
DESCRIPTION:Descubre cómo transformar las creencias que te limitan y alcanzar una nueva perspectiva de vida. En este taller práctico y profundo\, aprenderás a identificar los patrones que te frenan\, liberarlos y reconectar con tu verdadero potencial.
URL:https://tukairos.com/event/taller-online-liberando-mis-creencias/
LOCATION:Online\, Spain
ATTACH;FMTTYPE=image/jpeg:https://tukairos.com/wp-content/uploads/2025/01/taller-febrero-2025-1.jpg
END:VEVENT
END:VCALENDAR