BEGIN:VCALENDAR
VERSION:2.0
PRODID:-//Tu Kairós | Herramientas para desplegar todo tu potencial y abrazar tu transformación. - ECPv6.15.20//NONSGML v1.0//EN
CALSCALE:GREGORIAN
METHOD:PUBLISH
X-ORIGINAL-URL:https://tukairos.com
X-WR-CALDESC:Eventos para Tu Kairós | Herramientas para desplegar todo tu potencial y abrazar tu transformación.
REFRESH-INTERVAL;VALUE=DURATION:PT1H
X-Robots-Tag:noindex
X-PUBLISHED-TTL:PT1H
BEGIN:VTIMEZONE
TZID:Europe/Madrid
BEGIN:DAYLIGHT
TZOFFSETFROM:+0100
TZOFFSETTO:+0200
TZNAME:CEST
DTSTART:20240331T010000
END:DAYLIGHT
BEGIN:STANDARD
TZOFFSETFROM:+0200
TZOFFSETTO:+0100
TZNAME:CET
DTSTART:20241027T010000
END:STANDARD
BEGIN:DAYLIGHT
TZOFFSETFROM:+0100
TZOFFSETTO:+0200
TZNAME:CEST
DTSTART:20250330T010000
END:DAYLIGHT
BEGIN:STANDARD
TZOFFSETFROM:+0200
TZOFFSETTO:+0100
TZNAME:CET
DTSTART:20251026T010000
END:STANDARD
BEGIN:DAYLIGHT
TZOFFSETFROM:+0100
TZOFFSETTO:+0200
TZNAME:CEST
DTSTART:20260329T010000
END:DAYLIGHT
BEGIN:STANDARD
TZOFFSETFROM:+0200
TZOFFSETTO:+0100
TZNAME:CET
DTSTART:20261025T010000
END:STANDARD
END:VTIMEZONE
BEGIN:VEVENT
DTSTART;VALUE=DATE:20250301
DTEND;VALUE=DATE:20250303
DTSTAMP:20260425T163030
CREATED:20250207T155906Z
LAST-MODIFIED:20250211T173123Z
UID:19665-1740787200-1740959999@tukairos.com
SUMMARY:Seminario Online: Activación Interna de la Glándula Pineal
DESCRIPTION:Descubre cómo el Método Cyclopea puede transformar tu vida. Aprende a activar tu glándula pineal y accede a un estado de equilibrio físico\, emocional y espiritual desde la comodidad de tu hogar. \n¿Qué lograrás? \nPotenciar tu intuición y claridad mental. \nReducir el estrés y mejorar tu bienestar general. \nReconectar con tu propósito y energía creadora. \n✨ Atrévete a dar el paso hacia una vida más plena y consciente. \n🔗 Inscríbete hoy y asegura tu lugar. Más información en tukairos.com \n\n\n\nReserva tu lugar ahora  escríbenos al: https://api.whatsapp.com/send?phone=34686742596
URL:https://tukairos.com/event/seminario-online-activacion-interna-de-la-glandula-pineal/
ATTACH;FMTTYPE=image/jpeg:https://tukairos.com/wp-content/uploads/2025/02/SAVE_20250211_122314.jpg
END:VEVENT
BEGIN:VEVENT
DTSTART;TZID=Europe/Madrid:20250315T160000
DTEND;TZID=Europe/Madrid:20250315T190000
DTSTAMP:20260425T163030
CREATED:20250307T150306Z
LAST-MODIFIED:20250307T153048Z
UID:19737-1742054400-1742065200@tukairos.com
SUMMARY:Taller online: Descubre el poder del amor
DESCRIPTION:Descubre el verdadero poder del amor en este taller transformador. A través de una experiencia única\, aprenderás a conectar con la energía del amor puro\, desbloqueando emociones y abriendo el camino hacia una vida más armoniosa y plena. Durante tres horas te guiaré en este viaje de expansión interna para que experimentes cómo el amor puede ser la fuerza que lo cambia todo. \nÚnete a este encuentro online el 15 de marzo y permite que esta energía transformadora ilumine tu camino. \n🔗 Inscríbete hoy y asegura tu lugar. Más información en tukairos.com \n\n\n\nReserva tu lugar ahora  escríbenos al: https://api.whatsapp.com/send?phone=34686742596
URL:https://tukairos.com/event/taller-poder-del-amor-online-marzo-2025/
ATTACH;FMTTYPE=image/jpeg:https://tukairos.com/wp-content/uploads/2025/03/Imagen-de-WhatsApp-2025-03-07-a-las-08.38.10_fa69b680.jpg
END:VEVENT
BEGIN:VEVENT
DTSTART;TZID=Europe/Madrid:20250322T140000
DTEND;TZID=Europe/Madrid:20250323T200000
DTSTAMP:20260425T163030
CREATED:20250307T155355Z
LAST-MODIFIED:20250319T161231Z
UID:19747-1742652000-1742760000@tukairos.com
SUMMARY:Seminario Online: Activación Interna de la Glándula Pineal
DESCRIPTION:Los días 22 y 23 de marzo\, únete a nuestro seminario ONLINE exclusivo y aprende a activar tu glándula pineal\, la llave maestra para la transformación personal y espiritual. \n🔹 Expande tu conciencia\n🔹 Conéctate con tu verdadero poder\n🔹 Desbloquea nuevas posibilidades en tu vida \nDe la mano de Concha Suárez\, experta en activación pineal\, vivirás una experiencia profunda que te permitirá reprogramar tu energía\, elevar tu vibración y acceder a un estado de claridad y plenitud.\n🌟 ¡Reserva tu lugar ahora y despierta el poder que hay en ti! 🌟 \n\n\n\nReserva tu lugar ahora  escríbenos al: https://api.whatsapp.com/send?phone=34686742596
URL:https://tukairos.com/event/seminario-online-activacion-interna-de-la-glandula-pineal-2/
LOCATION:Online\, Spain
ATTACH;FMTTYPE=image/jpeg:https://tukairos.com/wp-content/uploads/2025/03/Imagen-de-WhatsApp-2025-03-07-a-las-09.49.59_b70b7153.jpg
END:VEVENT
END:VCALENDAR